BEGIN:VCALENDAR
VERSION:2.0
PRODID:-//Pittsfield Library - ECPv4.0//NONSGML v1.0//EN
CALSCALE:GREGORIAN
METHOD:PUBLISH
X-WR-CALNAME:Pittsfield Library
X-ORIGINAL-URL:http://www.pittsfieldpubliclibrary.com
X-WR-CALDESC:Events for Pittsfield Library
BEGIN:VEVENT
DTSTART;TZID="America/Chicago":20150601T130000
DTEND;TZID="America/Chicago":20150822T220000
DTSTAMP:20260425T110416
CREATED:20150617T223754
LAST-MODIFIED:20150617T223754
UID:114-1433163600-1440280800@www.pittsfieldpubliclibrary.com
SUMMARY:Read to the Rhythm
DESCRIPTION:Pittsfield Youth Library’s summer reading program begins June 1\, and continues through August 22\, 2015. Birth through twelfth grade are eligible to participate and prizes can be won. Talk to one of our youth librarians to learn more about the program and to pick up a reading log to keep track of your progress. Happy Reading!
URL:http://www.pittsfieldpubliclibrary.com/event/read-to-the-rhythm/
LOCATION:205 N Memorial St.\, Pittsfield\, 62363\, United States
END:VEVENT
END:VCALENDAR