BEGIN:VCALENDAR
VERSION:2.0
PRODID:-//Pittsfield Library - ECPv4.0//NONSGML v1.0//EN
CALSCALE:GREGORIAN
METHOD:PUBLISH
X-WR-CALNAME:Pittsfield Library
X-ORIGINAL-URL:http://www.pittsfieldpubliclibrary.com
X-WR-CALDESC:Events for Pittsfield Library
BEGIN:VEVENT
DTSTART;VALUE=DATE:20170801
DTEND;VALUE=DATE:20170901
DTSTAMP:20260424T095614
CREATED:20170802
LAST-MODIFIED:20170802
UID:468-1501563600-1504241999@www.pittsfieldpubliclibrary.com
SUMMARY:SCHOOL SUPPLIES FOR FINES
DESCRIPTION:\n\nDuring the month of August\, patrons of Pittsfield Public Library may pay their overdue fines by bringing in school-supply items.\n\n SCHOOL SUPPLIES FOR FINES  is a great way for our patrons to give back to the community and return their library account to good standing.\n\n For each new school-supply item brought in\, $0.50 will be subtracted from the patron's overdue fines.\n\nSCHOOLS SUPPLIES FOR FINES does NOT apply to lost or damaged materials.\n\nAll items collected will be distributed to local grade schools. \n\nOnly NEW school-supply items will be accepted.\n\nFor information on any outstanding overdue fines\, drop in and see us\, or call us at\nthe Adult Library at (217) 285-2200\nor the Youth Library at (217) 285-5232.\n\n
URL:http://www.pittsfieldpubliclibrary.com/event/school-supplies-for-fines/
END:VEVENT
BEGIN:VEVENT
DTSTART;VALUE=DATE:20170814
DTEND;VALUE=DATE:20170815
DTSTAMP:20260424T095614
CREATED:20170809
LAST-MODIFIED:20170809
UID:473-1502686800-1502773199@www.pittsfieldpubliclibrary.com
SUMMARY:IN-SERVICE DAY - LIBRARY CLOSED
DESCRIPTION:\n\nThe library will be CLOSED on Monday\, August 14\, 2017\, for a staff in-service day.\nWe will reopen for our normal hours\, Tuesday\, August 15\, 2017\, for our regular hours.\nWe apologize for any inconvenience this may cause our patrons and guests.\n
URL:http://www.pittsfieldpubliclibrary.com/event/in-service-day-library-closed/
END:VEVENT
END:VCALENDAR